BEGIN:VCALENDAR
VERSION:2.0
PRODID:-//Freedom Imaginaries - ECPv6.15.20//NONSGML v1.0//EN
CALSCALE:GREGORIAN
METHOD:PUBLISH
X-WR-CALNAME:Freedom Imaginaries
X-ORIGINAL-URL:https://freedomimaginaries.org
X-WR-CALDESC:Events for Freedom Imaginaries
REFRESH-INTERVAL;VALUE=DURATION:PT1H
X-Robots-Tag:noindex
X-PUBLISHED-TTL:PT1H
BEGIN:VTIMEZONE
TZID:America/Jamaica
BEGIN:STANDARD
TZOFFSETFROM:-0500
TZOFFSETTO:-0500
TZNAME:EST
DTSTART:20200101T000000
END:STANDARD
END:VTIMEZONE
BEGIN:VEVENT
DTSTART;TZID=America/Jamaica:20221205T140000
DTEND;TZID=America/Jamaica:20221205T153000
DTSTAMP:20260424T174809
CREATED:20221128T160036Z
LAST-MODIFIED:20221201T100532Z
UID:5869-1670248800-1670254200@freedomimaginaries.org
SUMMARY:Beyond Racial Sacrifice Zones: Towards a New Social and International Order
DESCRIPTION:[vc_row][vc_column width=”1/3″][vc_empty_space height=”40px”][vc_btn title=”REGISTER HERE” style=”custom” custom_background=”#333232″ custom_text=”#ffffff” shape=”square” size=”lg” align=”center” link=”url:https%3A%2F%2Fbit.ly%2FBeyondRacialSacrificeZones%20||target:%20_blank|”][/vc_column][vc_column width=”2/3″][vc_empty_space height=”40px”][vc_custom_heading text=”December 5 @ 2pm Bogota / 8pm CET” font_container=”tag:h2|font_size:18|text_align:left|color:%23333232|line_height:1.5″ google_fonts=”font_family:Lato%3A100%2C100italic%2C300%2C300italic%2Cregular%2Citalic%2C700%2C700italic%2C900%2C900italic|font_style:700%20bold%20regular%3A700%3Anormal”][vc_empty_space][vc_custom_heading text=”The purpose of this side event is to share Caribbean experiences on the links between colonialism\, extractivism\, and the proliferation of “sacrifice zones”—places rendered dangerous and even uninhabitable due to environmental degradation\, including climate change. As noted by the former UN expert on racism\, these sacrifice zones are in effect “racial sacrifice zones\,” since they are concentrated in territories belonging to groups and nations that were colonially designated as racially inferior. Panelists will discuss rights-based strategies to eradicate racial sacrifice zones as part of the movement for reparations\, focusing on the human rights framework for racial justice and environmental protection. The event will feature the launch of Freedom Imaginaries’ short film on racial sacrifice zones.” font_container=”tag:h2|font_size:18|text_align:left|color:%23333232|line_height:1.5″ google_fonts=”font_family:Lato%3A100%2C100italic%2C300%2C300italic%2Cregular%2Citalic%2C700%2C700italic%2C900%2C900italic|font_style:400%20regular%3A400%3Anormal”][vc_empty_space][/vc_column][/vc_row][vc_row][vc_column]\n    \n      \n    \n   [/vc_column][/vc_row][vc_row][vc_column][vc_single_image image=”5885″ img_size=”5200″ onclick=”custom_link” link=”https://bit.ly/Beyond-Racial-Sacrifice-Zones”][/vc_column][/vc_row]
URL:https://freedomimaginaries.org/event/beyond-racial-sacrifice-zones/
CATEGORIES:Webinars
END:VEVENT
BEGIN:VEVENT
DTSTART;TZID=America/Jamaica:20211130T140000
DTEND;TZID=America/Jamaica:20211130T163000
DTSTAMP:20260424T174809
CREATED:20211119T230620Z
LAST-MODIFIED:20211125T194006Z
UID:5384-1638280800-1638289800@freedomimaginaries.org
SUMMARY:The Impact of Extractivism: Ecocide\, Climate Crisis and Human Rights Abuses in the Caribbean
DESCRIPTION:[vc_row][vc_column width=”1/3″][vc_btn title=”REGISTER HERE” style=”custom” custom_background=”#333232″ custom_text=”#ffffff” shape=”square” size=”lg” align=”center” link=”url:https%3A%2F%2Fus02web.zoom.us%2Fwebinar%2Fregister%2FWN_ZQP7B7uSSDaZ_eDINnEQMg|||”][vc_empty_space][/vc_column][vc_column width=”2/3″][vc_custom_heading text=”This webinar presents testimony and perspectives from the Caribbean on the impact of extractivism on human rights and climate change\, with a focus on the economic\, social\, cultural and environmental rights of Indigenous Peoples\, Afro-descendent and rural communities. This is the second webinar in Freedom Imaginaries’ webinar and blog series\, Beyond Extractivism.” font_container=”tag:h2|font_size:18|text_align:justify|color:%23333232|line_height:1.5″ google_fonts=”font_family:Lato%3A100%2C100italic%2C300%2C300italic%2Cregular%2Citalic%2C700%2C700italic%2C900%2C900italic|font_style:400%20regular%3A400%3Anormal”][vc_empty_space height=”60px”][/vc_column][/vc_row][vc_row][vc_column][vc_tta_pageable][vc_tta_section title=”Section 1″ tab_id=”1637358781409-daef936d-e3b2″][vc_single_image image=”5494″ img_size=”5200″ onclick=”custom_link” link=”http://https://us02web.zoom.us/webinar/register/WN_ZQP7B7uSSDaZ_eDINnEQMg”][/vc_tta_section][vc_tta_section title=”Section 2″ tab_id=”1637358781410-5a76b669-1c6c”][/vc_tta_section][/vc_tta_pageable][/vc_column][/vc_row][vc_row][vc_column][vc_empty_space height=”60px”][vc_custom_heading text=”SPEAKERS” font_container=”tag:h2|font_size:30|text_align:center|color:%23333232″ google_fonts=”font_family:Lato%3A100%2C100italic%2C300%2C300italic%2Cregular%2Citalic%2C700%2C700italic%2C900%2C900italic|font_style:700%20bold%20regular%3A700%3Anormal”][vc_empty_space height=”70px”][/vc_column][/vc_row][vc_row][vc_column width=”1/3″]\n    \n      \n    \n   [vc_empty_space height=”10px”][vc_custom_heading text=”Immaculata Casimero\, Guyana” font_container=”tag:h2|font_size:18|text_align:left|color:%23333232|line_height:.8″ google_fonts=”font_family:Lato%3A100%2C100italic%2C300%2C300italic%2Cregular%2Citalic%2C700%2C700italic%2C900%2C900italic|font_style:700%20bold%20regular%3A700%3Anormal”][vc_custom_heading text=”Founder\, Wapichan Women’s Movement” font_container=”tag:h2|font_size:18|text_align:left|color:%23333232|line_height:1.1″ google_fonts=”font_family:Lato%3A100%2C100italic%2C300%2C300italic%2Cregular%2Citalic%2C700%2C700italic%2C900%2C900italic|font_style:400%20regular%3A400%3Anormal”][vc_empty_space height=”15px”][/vc_column][vc_column width=”1/3″]\n    \n      \n    \n   [vc_empty_space height=”10px”][vc_custom_heading text=”John Mussington\, Antigua and Barbuda” font_container=”tag:h2|font_size:18|text_align:left|color:%23333232|line_height:1.1″ google_fonts=”font_family:Lato%3A100%2C100italic%2C300%2C300italic%2Cregular%2Citalic%2C700%2C700italic%2C900%2C900italic|font_style:700%20bold%20regular%3A700%3Anormal”][vc_custom_heading text=”Environmental Advocate and Educator” font_container=”tag:h2|font_size:18|text_align:left|color:%23333232|line_height:1.1″ google_fonts=”font_family:Lato%3A100%2C100italic%2C300%2C300italic%2Cregular%2Citalic%2C700%2C700italic%2C900%2C900italic|font_style:400%20regular%3A400%3Anormal”][vc_empty_space height=”15px”][/vc_column][vc_column width=”1/3″]\n    \n      \n    \n   [vc_custom_heading text=”Esther Figueroa\, Jamaica” font_container=”tag:h2|font_size:18|text_align:left|color:%23333232|line_height:1.1″ google_fonts=”font_family:Lato%3A100%2C100italic%2C300%2C300italic%2Cregular%2Citalic%2C700%2C700italic%2C900%2C900italic|font_style:700%20bold%20regular%3A700%3Anormal”][vc_custom_heading text=”Environmental Activist and Filmmaker” font_container=”tag:h2|font_size:18|text_align:left|color:%23333232|line_height:1.1″ google_fonts=”font_family:Lato%3A100%2C100italic%2C300%2C300italic%2Cregular%2Citalic%2C700%2C700italic%2C900%2C900italic|font_style:400%20regular%3A400%3Anormal”][vc_empty_space height=”5px”][/vc_column][/vc_row][vc_row][vc_column width=”1/2″][vc_empty_space height=”10px”][/vc_column][vc_column width=”1/2″][vc_empty_space height=”10px”][/vc_column][/vc_row][vc_row][vc_column width=”1/3″]\n    \n      \n    \n   [vc_custom_heading text=”Kirk Murray\, Abaco Islands\, The Bahamas” font_container=”tag:h2|font_size:18|text_align:left|color:%23333232|line_height:1.1″ google_fonts=”font_family:Lato%3A100%2C100italic%2C300%2C300italic%2Cregular%2Citalic%2C700%2C700italic%2C900%2C900italic|font_style:700%20bold%20regular%3A700%3Anormal”][vc_custom_heading text=”Fire Chief” font_container=”tag:h2|font_size:18|text_align:left|color:%23333232|line_height:1″ google_fonts=”font_family:Lato%3A100%2C100italic%2C300%2C300italic%2Cregular%2Citalic%2C700%2C700italic%2C900%2C900italic|font_style:400%20regular%3A400%3Anormal”][vc_empty_space height=”10px”][/vc_column][vc_column width=”1/3″]\n    \n      \n    \n   [vc_custom_heading text=”Janette Bulkan\, Guyana” font_container=”tag:h2|font_size:18|text_align:left|color:%23333232|line_height:.8″ google_fonts=”font_family:Lato%3A100%2C100italic%2C300%2C300italic%2Cregular%2Citalic%2C700%2C700italic%2C900%2C900italic|font_style:700%20bold%20regular%3A700%3Anormal”][vc_custom_heading text=”Environmental Advocate and Academic” font_container=”tag:h2|font_size:18|text_align:left|color:%23333232|line_height:1.1″ google_fonts=”font_family:Lato%3A100%2C100italic%2C300%2C300italic%2Cregular%2Citalic%2C700%2C700italic%2C900%2C900italic|font_style:400%20regular%3A400%3Anormal”][vc_empty_space height=”10px”][vc_empty_space height=”10px”][vc_empty_space height=”10px”][/vc_column][vc_column width=”1/3″]\n    \n      \n    \n   [vc_custom_heading text=”Germain Clerveau\, Haiti” font_container=”tag:h2|font_size:18|text_align:left|color:%23333232|line_height:1.1″ google_fonts=”font_family:Lato%3A100%2C100italic%2C300%2C300italic%2Cregular%2Citalic%2C700%2C700italic%2C900%2C900italic|font_style:700%20bold%20regular%3A700%3Anormal”][vc_custom_heading text=”Jesuit Priest and Environmental Advocate” font_container=”tag:h2|font_size:18|text_align:left|color:%23333232|line_height:1.1″ google_fonts=”font_family:Lato%3A100%2C100italic%2C300%2C300italic%2Cregular%2Citalic%2C700%2C700italic%2C900%2C900italic|font_style:400%20regular%3A400%3Anormal”][/vc_column][/vc_row][vc_row][vc_column width=”1/2″][vc_empty_space height=”10px”][vc_empty_space height=”5px”][/vc_column][vc_column width=”1/2″][vc_empty_space height=”10px”][vc_empty_space height=”5px”][/vc_column][/vc_row][vc_row][vc_column width=”1/2″]\n    \n      \n    \n   [vc_empty_space height=”10px”][vc_custom_heading text=”Hugo Jabini\, Suriname” font_container=”tag:h2|font_size:18|text_align:left|color:%23333232|line_height:.8″ google_fonts=”font_family:Lato%3A100%2C100italic%2C300%2C300italic%2Cregular%2Citalic%2C700%2C700italic%2C900%2C900italic|font_style:700%20bold%20regular%3A700%3Anormal”][vc_custom_heading text=”Saramaka Environmental Leader” font_container=”tag:h2|font_size:18|text_align:left|color:%23333232|line_height:.8″ google_fonts=”font_family:Lato%3A100%2C100italic%2C300%2C300italic%2Cregular%2Citalic%2C700%2C700italic%2C900%2C900italic|font_style:400%20regular%3A400%3Anormal”][vc_empty_space height=”10px”][vc_empty_space height=”15px”][/vc_column][vc_column width=”1/2″]\n    \n      \n    \n   [vc_empty_space height=”10px”][vc_custom_heading text=”Gary Aboud\, Trinidad and Tobago” font_container=”tag:h2|font_size:18|text_align:left|color:%23333232|line_height:.8″ google_fonts=”font_family:Lato%3A100%2C100italic%2C300%2C300italic%2Cregular%2Citalic%2C700%2C700italic%2C900%2C900italic|font_style:700%20bold%20regular%3A700%3Anormal”][vc_custom_heading text=”Founding Member and Corporate Secretary\, Fishermen and Friends of the Sea” font_container=”tag:h2|font_size:18|text_align:left|color:%23333232|line_height:1.1″ google_fonts=”font_family:Lato%3A100%2C100italic%2C300%2C300italic%2Cregular%2Citalic%2C700%2C700italic%2C900%2C900italic|font_style:400%20regular%3A400%3Anormal”][vc_empty_space height=”25px”][/vc_column][/vc_row][vc_row][vc_column width=”1/2″][vc_custom_heading text=”MODERATOR” font_container=”tag:h2|font_size:30|text_align:left|color:%23333232″ google_fonts=”font_family:Lato%3A100%2C100italic%2C300%2C300italic%2Cregular%2Citalic%2C700%2C700italic%2C900%2C900italic|font_style:700%20bold%20regular%3A700%3Anormal”][vc_empty_space]\n    \n      \n    \n   [vc_custom_heading text=”Malene Alleyne\, Jamaica” font_container=”tag:h2|font_size:18|text_align:left|color:%23333232|line_height:.8″ google_fonts=”font_family:Lato%3A100%2C100italic%2C300%2C300italic%2Cregular%2Citalic%2C700%2C700italic%2C900%2C900italic|font_style:700%20bold%20regular%3A700%3Anormal”][vc_custom_heading text=”Human Rights Lawyer and Founder\, Freedom Imaginaries” font_container=”tag:h2|font_size:18|text_align:left|color:%23333232|line_height:1.1″ google_fonts=”font_family:Lato%3A100%2C100italic%2C300%2C300italic%2Cregular%2Citalic%2C700%2C700italic%2C900%2C900italic|font_style:400%20regular%3A400%3Anormal”][vc_empty_space][/vc_column][vc_column width=”1/2″][vc_custom_heading text=”FEATURED ARTIST” font_container=”tag:h2|font_size:30|text_align:left|color:%23333232″ google_fonts=”font_family:Lato%3A100%2C100italic%2C300%2C300italic%2Cregular%2Citalic%2C700%2C700italic%2C900%2C900italic|font_style:700%20bold%20regular%3A700%3Anormal”][vc_empty_space]\n    \n      \n    \n   [vc_empty_space][vc_custom_heading text=”Earth and the Fullness” font_container=”tag:h2|font_size:18|text_align:left|color:%23333232|line_height:.8″ google_fonts=”font_family:Lato%3A100%2C100italic%2C300%2C300italic%2Cregular%2Citalic%2C700%2C700italic%2C900%2C900italic|font_style:700%20bold%20regular%3A700%3Anormal”][vc_custom_heading text=”Band that performs roots music with soul live from Kingston\, Jamaica.” font_container=”tag:h2|font_size:18|text_align:justify|color:%23333232|line_height:1.5″ google_fonts=”font_family:Lato%3A100%2C100italic%2C300%2C300italic%2Cregular%2Citalic%2C700%2C700italic%2C900%2C900italic|font_style:400%20regular%3A400%3Anormal”][vc_empty_space][/vc_column][/vc_row][vc_row][vc_column][vc_empty_space][vc_btn title=”REGISTER HERE” style=”custom” custom_background=”#333232″ custom_text=”#ffffff” shape=”square” size=”lg” align=”center” link=”url:https%3A%2F%2Fus02web.zoom.us%2Fwebinar%2Fregister%2FWN_ZQP7B7uSSDaZ_eDINnEQMg|||”][vc_empty_space][vc_empty_space height=”10px”][/vc_column][/vc_row]
URL:https://freedomimaginaries.org/event/beyond-extractivism-webinar2/
CATEGORIES:Webinars
END:VEVENT
BEGIN:VEVENT
DTSTART;TZID=America/Jamaica:20210912T150000
DTEND;TZID=America/Jamaica:20210912T150000
DTSTAMP:20260424T174809
CREATED:20210905T035855Z
LAST-MODIFIED:20210907T214407Z
UID:5062-1631458800-1631458800@freedomimaginaries.org
SUMMARY:Beyond Extractivism: Decolonial Perspectives from the Caribbean
DESCRIPTION:[vc_row][vc_column][vc_single_image image=”5200″ img_size=”full”][vc_empty_space][/vc_column][/vc_row][vc_row][vc_column][vc_btn title=”RSVP” style=”outline-custom” outline_custom_color=”#666666″ outline_custom_hover_background=”#666666″ outline_custom_hover_text=”#ffffff” shape=”square” size=”lg” align=”left” link=”url:https%3A%2F%2Fus02web.zoom.us%2Fwebinar%2Fregister%2FWN_mswNcFo7S4KkTZBG3sci6A|||”][vc_empty_space][vc_column_text el_class=”Body_text”] \n\nExtraction in the Caribbean is rooted in the racially discriminatory history of colonial extractivism\, built on ecocide\, indigenous dispossession\, and the exploitation of non-“white” labour. Within this dynamic\, Caribbean nations have been relegated to sacrificial zones of extraction\, where they remain trapped in a vicious cycle of debt\, dependency\, and environmental degradation. Today\, the cumulative impact of centuries of colonial and contemporary extractivism presents an existential threat to the Caribbean\, including through climate crisis\, the destruction of crucial ecosystems\, biodiversity loss\, and the devastation of traditional livelihoods. \nDespite this context\, Caribbean governments and global governance institutions continue to push extractivist development as the seemingly inevitable fate for post-colonial societies. There is an urgent need for discourse and action that challenge this doctrine of inevitability and advance alternative paradigms for post-colonial development. \nIn this webinar\, panelists will analyse the concept of extractivism from a decolonial perspective\, focusing on the extractivist logics\, practices\, world views\, and normative beliefs that permit the consistent exploitation and devastation of formerly colonised nations\, including those in the Caribbean. The discussion will provide multidisciplinary perspectives on the need to build pathways to a future beyond extractivism. \nThis webinar forms part of Freedom Imaginaries’ webinar and written reflections series\, Beyond Extractivism. This webinar is also a special event in the Global Extraction Film Festival 2021 organised by Esther Figueroa (Vagabond Media) and Emiel Martens (Caribbean Creativity).[/vc_column_text][vc_empty_space height=”80px”][/vc_column][/vc_row][vc_row][vc_column][vc_custom_heading text=”SPEAKERS” font_container=”tag:h2|font_size:30|text_align:center|color:%23333232″ google_fonts=”font_family:Lato%3A100%2C100italic%2C300%2C300italic%2Cregular%2Citalic%2C700%2C700italic%2C900%2C900italic|font_style:700%20bold%20regular%3A700%3Anormal”][vc_empty_space height=”100px”][/vc_column][/vc_row][vc_row][vc_column width=”1/2″]\n    \n      \n    \n   [vc_empty_space][/vc_column][vc_column width=”1/2″][vc_custom_heading text=”Malene Alleyne” font_container=”tag:h2|text_align:left|color:%23333232″ google_fonts=”font_family:Lato%3A100%2C100italic%2C300%2C300italic%2Cregular%2Citalic%2C700%2C700italic%2C900%2C900italic|font_style:700%20bold%20regular%3A700%3Anormal”][vc_empty_space height=”10px”][vc_custom_heading text=”Human Rights Lawyer and Founder\, Freedom Imaginaries” font_container=”tag:h2|font_size:18|text_align:left|color:%23333232″ google_fonts=”font_family:Lato%3A100%2C100italic%2C300%2C300italic%2Cregular%2Citalic%2C700%2C700italic%2C900%2C900italic|font_style:400%20regular%3A400%3Anormal”][vc_empty_space height=”5px”][vc_custom_heading text=”@MaleneAlleyne” font_container=”tag:h2|font_size:18|text_align:left|color:%2300acee” google_fonts=”font_family:Lato%3A100%2C100italic%2C300%2C300italic%2Cregular%2Citalic%2C700%2C700italic%2C900%2C900italic|font_style:400%20regular%3A400%3Anormal”][vc_empty_space height=”10px”][/vc_column][/vc_row][vc_row][vc_column width=”1/2″]\n    \n      \n    \n   [vc_empty_space][/vc_column][vc_column width=”1/2″][vc_custom_heading text=”Rodjé Malcolm” font_container=”tag:h2|text_align:left|color:%23333232″ google_fonts=”font_family:Lato%3A100%2C100italic%2C300%2C300italic%2Cregular%2Citalic%2C700%2C700italic%2C900%2C900italic|font_style:700%20bold%20regular%3A700%3Anormal”][vc_empty_space height=”10px”][vc_custom_heading text=”Former Executive Director\, Jamaicans for Justice” font_container=”tag:h2|font_size:18|text_align:left|color:%23333232″ google_fonts=”font_family:Lato%3A100%2C100italic%2C300%2C300italic%2Cregular%2Citalic%2C700%2C700italic%2C900%2C900italic|font_style:400%20regular%3A400%3Anormal”][vc_empty_space height=”10px”][/vc_column][/vc_row][vc_row][vc_column width=”1/2″]\n    \n      \n    \n   [vc_empty_space][/vc_column][vc_column width=”1/2″][vc_custom_heading text=”Dr. Patricia Northover” font_container=”tag:h2|text_align:left|color:%23333232″ google_fonts=”font_family:Lato%3A100%2C100italic%2C300%2C300italic%2Cregular%2Citalic%2C700%2C700italic%2C900%2C900italic|font_style:700%20bold%20regular%3A700%3Anormal”][vc_empty_space height=”10px”][vc_custom_heading text=”Senior Fellow at the Sir Arthur Lewis Institute of Social and Economic Studies\, at The University of the West Indies\, Mona (SALISES\, UWI)” font_container=”tag:h2|font_size:18|text_align:left|color:%23333232″ google_fonts=”font_family:Lato%3A100%2C100italic%2C300%2C300italic%2Cregular%2Citalic%2C700%2C700italic%2C900%2C900italic|font_style:400%20regular%3A400%3Anormal”][vc_empty_space height=”5px”][vc_custom_heading text=”@PatriciaNortho1″ font_container=”tag:h2|font_size:18|text_align:left|color:%2300acee” google_fonts=”font_family:Lato%3A100%2C100italic%2C300%2C300italic%2Cregular%2Citalic%2C700%2C700italic%2C900%2C900italic|font_style:400%20regular%3A400%3Anormal”][vc_empty_space height=”10px”][/vc_column][/vc_row][vc_row][vc_column width=”1/2″]\n    \n      \n    \n   [vc_empty_space][/vc_column][vc_column width=”1/2″][vc_custom_heading text=”Dr. Catalina Toro Pérez” font_container=”tag:h2|text_align:left|color:%23333232″ google_fonts=”font_family:Lato%3A100%2C100italic%2C300%2C300italic%2Cregular%2Citalic%2C700%2C700italic%2C900%2C900italic|font_style:700%20bold%20regular%3A700%3Anormal”][vc_empty_space height=”10px”][vc_custom_heading text=”Associate Professor in the Department of Political Sciences at the School of Law\, Political and Social Sciences\, National University of Colombia” font_container=”tag:h2|font_size:18|text_align:left|color:%23333232″ google_fonts=”font_family:Lato%3A100%2C100italic%2C300%2C300italic%2Cregular%2Citalic%2C700%2C700italic%2C900%2C900italic|font_style:400%20regular%3A400%3Anormal”][vc_empty_space height=”10px”][/vc_column][/vc_row][vc_row][vc_column width=”1/2″]\n    \n      \n    \n   [vc_empty_space][/vc_column][vc_column width=”1/2″][vc_custom_heading text=”Dr. Mimi Sheller” font_container=”tag:h2|text_align:left|color:%23333232″ google_fonts=”font_family:Lato%3A100%2C100italic%2C300%2C300italic%2Cregular%2Citalic%2C700%2C700italic%2C900%2C900italic|font_style:700%20bold%20regular%3A700%3Anormal”][vc_empty_space height=”10px”][vc_custom_heading text=”Inaugural Dean of The Global School at Worcester Polytechnic Institute” font_container=”tag:h2|font_size:18|text_align:left|color:%23333232″ google_fonts=”font_family:Lato%3A100%2C100italic%2C300%2C300italic%2Cregular%2Citalic%2C700%2C700italic%2C900%2C900italic|font_style:400%20regular%3A400%3Anormal”][vc_empty_space height=”5px”][vc_custom_heading text=”@MimiSheller” font_container=”tag:h2|font_size:18|text_align:left|color:%2300acee” google_fonts=”font_family:Lato%3A100%2C100italic%2C300%2C300italic%2Cregular%2Citalic%2C700%2C700italic%2C900%2C900italic|font_style:400%20regular%3A400%3Anormal”][vc_empty_space height=”10px”][/vc_column][/vc_row][vc_row][vc_column][vc_empty_space height=”80px”][/vc_column][/vc_row]
URL:https://freedomimaginaries.org/event/beyond-extractivism-decolonial-perspectives/
CATEGORIES:Webinars
END:VEVENT
END:VCALENDAR