BEGIN:VCALENDAR
VERSION:2.0
PRODID:-//Freedom Imaginaries - ECPv6.15.20//NONSGML v1.0//EN
CALSCALE:GREGORIAN
METHOD:PUBLISH
X-ORIGINAL-URL:https://freedomimaginaries.org
X-WR-CALDESC:Events for Freedom Imaginaries
REFRESH-INTERVAL;VALUE=DURATION:PT1H
X-Robots-Tag:noindex
X-PUBLISHED-TTL:PT1H
BEGIN:VTIMEZONE
TZID:America/Jamaica
BEGIN:STANDARD
TZOFFSETFROM:-0500
TZOFFSETTO:-0500
TZNAME:EST
DTSTART:20220101T000000
END:STANDARD
END:VTIMEZONE
BEGIN:VEVENT
DTSTART;TZID=America/Jamaica:20230815T180000
DTEND;TZID=America/Jamaica:20230815T190000
DTSTAMP:20260424T221721
CREATED:20230815T153340Z
LAST-MODIFIED:20230917T141436Z
UID:6048-1692122400-1692126000@freedomimaginaries.org
SUMMARY:The Haitian Refugee Crisis: Caribbean States' Obligations Under International Refugee Law
DESCRIPTION:[vc_row][vc_column][vc_btn title=”REGISTER” shape=”square” color=”black” link=”url:https%3A%2F%2Fus02web.zoom.us%2Fwebinar%2Fregister%2FWN_3KnE1uQXTfqpwTL_K04EOw|||”]\n    \n      \n    \n   [/vc_column][/vc_row][vc_row][vc_column][vc_btn title=”REGISTER” shape=”square” color=”black” link=”url:https%3A%2F%2Fus02web.zoom.us%2Fwebinar%2Fregister%2FWN_3KnE1uQXTfqpwTL_K04EOw|||”][/vc_column][/vc_row]
URL:https://freedomimaginaries.org/event/the-haitian-refugee-crisis-caribbean-states-obligations-under-international-refugee-law/
CATEGORIES:INTERNATIONAL REFUGEE LAW
END:VEVENT
END:VCALENDAR